BEGIN:VCALENDAR
VERSION:2.0
PRODID:-//RegioIngenieur - ECPv6.15.20//NONSGML v1.0//EN
CALSCALE:GREGORIAN
METHOD:PUBLISH
X-ORIGINAL-URL:https://regioingenieur.nl
X-WR-CALDESC:Evenementen voor RegioIngenieur
REFRESH-INTERVAL;VALUE=DURATION:PT1H
X-Robots-Tag:noindex
X-PUBLISHED-TTL:PT1H
BEGIN:VTIMEZONE
TZID:Europe/Amsterdam
BEGIN:DAYLIGHT
TZOFFSETFROM:+0100
TZOFFSETTO:+0200
TZNAME:CEST
DTSTART:20200329T010000
END:DAYLIGHT
BEGIN:STANDARD
TZOFFSETFROM:+0200
TZOFFSETTO:+0100
TZNAME:CET
DTSTART:20201025T010000
END:STANDARD
BEGIN:DAYLIGHT
TZOFFSETFROM:+0100
TZOFFSETTO:+0200
TZNAME:CEST
DTSTART:20210328T010000
END:DAYLIGHT
BEGIN:STANDARD
TZOFFSETFROM:+0200
TZOFFSETTO:+0100
TZNAME:CET
DTSTART:20211031T010000
END:STANDARD
BEGIN:DAYLIGHT
TZOFFSETFROM:+0100
TZOFFSETTO:+0200
TZNAME:CEST
DTSTART:20220327T010000
END:DAYLIGHT
BEGIN:STANDARD
TZOFFSETFROM:+0200
TZOFFSETTO:+0100
TZNAME:CET
DTSTART:20221030T010000
END:STANDARD
BEGIN:DAYLIGHT
TZOFFSETFROM:+0100
TZOFFSETTO:+0200
TZNAME:CEST
DTSTART:20230326T010000
END:DAYLIGHT
BEGIN:STANDARD
TZOFFSETFROM:+0200
TZOFFSETTO:+0100
TZNAME:CET
DTSTART:20231029T010000
END:STANDARD
END:VTIMEZONE
BEGIN:VEVENT
DTSTART;TZID=Europe/Amsterdam:20220309T150000
DTEND;TZID=Europe/Amsterdam:20220309T163000
DTSTAMP:20260422T183723
CREATED:20220225T093830Z
LAST-MODIFIED:20220225T093830Z
UID:5761-1646838000-1646843400@regioingenieur.nl
SUMMARY:Emissieloos Bouwen: wat levert het op in de praktijk?
DESCRIPTION:Introductie\nHet is 2022 en de tijd tikt door. In 2030 willen we als GWW-sector volledig emissieloos bouwen. Hoe gaat we daar komen? \nIn deze bijeenkomst zie je hoe emissieloos bouwen er in de praktijk aan toe gaat. We zien hoe markt en overheid de krachten bundelen op zowel kleine als grootschalige projecten en wat het toepassen van emissieloos bouwen opbrengt. De resultaten zullen je verrassen. \n\n\n\n\n\n\n\n\n\n\n\n\n\n\n\n\nProgramma\n\n\n\nOnder leiding van Marco Hofman (Provincie Noord-Holland) openen we de bijeenkomst met Edwin Lokkerbol (Emissieloos Netwerk Infra) die het ‘waarom’ van Emissieloos Bouwen neerzet. Van daaruit neemt hij ons mee in de benodigde verandering in de klassieke rolopvatting tussen opdrachtgever en opdrachtnemer. Dit doet hij aan de hand van concrete projecten uit het Hoogwaterbeschermingsprogramma (HWBP) en bij het aanbesteden van rotondes. \nJan Baltissen (HWBP) duikt dieper in op de opbrengsten voor opdrachtgevers\, zowel op grote als kleine schaal. Dat zit niet alleen in de reductie van emissie maar ook onder meer minder hinder\, veranderende bouwlogistiek en de kansen die daaruit ontstaan. \nPol van de Rest (Waterschap Scheldestromen) neemt ons mee in hun bouwteam van een groot project waar ze de opdrachtnemer betrekken om de juiste vraag te kunnen stellen. Hierin wordt duidelijk dat we de expertise van de markt nodig hebben om stap voor stap richting 100% emissieloos bouwen te komen. \nSil Polman (gemeente Arnhem) en zijn samenwerkingspartner bij Heijmans laten zien wat er al mogelijk is. In het uitgelichte project is bijna al het materiaal elektrisch\, worden amper nieuwe materialen gebruikt en zullen de uitkomsten gebruikt worden om de aanpak op te schalen middels een roadmap zero emissie bouwplaats. \nNa vier korte presentaties nemen de sprekers deel in het panel waar we dieper verkennen wat de kansen\, uitdagingen en opbrengsten zijn van emissieloos bouwen en hoe we deze transitie kunnen versnellen. Tijdens de presentaties en het panel word je als deelnemer ook uitgenodigd je vragen in te brengen. \nNa afloop van deze bijeenkomst heb je beter beeld wat emissieloos bouwen in de praktijk oplevert en handvatten om dat verder vorm te geven in je eigen projecten.
URL:https://regioingenieur.nl/event/emissieloos-bouwen-wat-levert-het-op-in-de-praktijk/
ATTACH;FMTTYPE=image/png:https://regioingenieur.nl/wp-content/uploads/2021/04/downloaden.png
END:VEVENT
BEGIN:VEVENT
DTSTART;TZID=Europe/Amsterdam:20220210T133000
DTEND;TZID=Europe/Amsterdam:20220210T164500
DTSTAMP:20260422T183723
CREATED:20220128T131531Z
LAST-MODIFIED:20220128T131531Z
UID:5715-1644499800-1644511500@regioingenieur.nl
SUMMARY:Duurzame infra: alleen samen | Week van de Circulaire economie en Klimaat
DESCRIPTION:Introductie\nGemeenten\, provincies\, waterschappen en het Rijk werken aan dezelfde publieke opgaven: verduurzaming van de infra\, voldoen aan de klimaatafspraken en bijdragen aan een leefbare wereld voor de volgende generaties. Om dit voor elkaar te krijgen is het belangrijk dat we onze praktijkvoorbeelden\, kennis\, kunde en resultaten met elkaar blijven delen. \nOp 10 februari\, tijdens de Week van de Circulaire economie en Klimaat\, organiseren het Ministerie van Infrastructuur en Waterstaat\, Rijkswaterstaat\, Prorail en Platform WOW de middag ‘Duurzame infra: alleen samen’. In acht workshops worden de ervaringen van diverse provincies\, gemeenten\, waterschappen\, het ministerie van Infrastructuur en Waterstaat\, Rijkswaterstaat en ProRail over het verduurzamen van de infra bijeengebracht. Na deze dag heb je nieuwe inspiratie en concrete handvatten waar je in je werk als infrabeheerder mee verder kunt. \n\nDoelgroep: Overheden die werken aan de infrastructuur (marktpartijen ook welkom)\n\n\n\nContactpersoon: Willem de Kock\, projectleider Kennisdeling en Samenwerking
URL:https://regioingenieur.nl/event/duurzame-infra-alleen-samen-week-van-de-circulaire-economie-en-klimaat/
ATTACH;FMTTYPE=image/png:https://regioingenieur.nl/wp-content/uploads/2021/04/downloaden.png
END:VEVENT
BEGIN:VEVENT
DTSTART;TZID=Europe/Amsterdam:20220209T123000
DTEND;TZID=Europe/Amsterdam:20220209T133000
DTSTAMP:20260422T183723
CREATED:20220128T131201Z
LAST-MODIFIED:20220128T131201Z
UID:5713-1644409800-1644413400@regioingenieur.nl
SUMMARY:Lunchlezing Bruggen: datagedreven assetmanagement Vlaanderen en Nijmegen
DESCRIPTION:Over deze lezing\nWe zoeken de grenzen op. Op 9 februari eindigen we de mini-reeks lunchlezingen ‘een blik op datagedreven assetmanagement’ met een blik van Vlaamse infrastructuurbeheerders en de gemeente Nijmegen. \nDe Vlaamse Waterweg\, beheerder waterwegen in Vlaanderen \nNet zoals in Nederland kampen de Vlaamse infrastructuurbeheerders met grote tekorten in de onderhoudsbudgetten. Om de juiste beslissingen te kunnen nemen en om de onderhoudsbehoefte goed in kaart te kunnen brengen is men gestart met de implementatie van datagedreven assetmanagement. Om deze implementatie mogelijk te maken\, is de beschikbaarheid van de juiste tools cruciaal. IASSET is sinds november 2020 één van deze tools. Op 9 februari geeft Bram Leus van de Vlaamse Waterweg een overzicht van het afgelegde traject\, de gemaakte keuzes en de toekomstvisie. \nGemeente Nijmegen \nKees Vos van de gemeente Nijmegen vertelt over het beheer van de data openbare ruimte binnen de gemeente. Vanzelfsprekend is de gemeente eigenaar van deze data maar daar waar de markt sterk in is moet je gebruik maken van hun expertise. De oplossing ligt onder andere in samenwerking of ‘werken op regie’ zoals de gemeente Nijmegen dat noemt. Op 9 februari hoor je alles over het samenspel tussen opdrachtgever en opdrachtnemer op dit data-thema. \nLunchlezingen Bruggen \nIn de reeks lunchlezingen over bruggen krijg je innovatieve inzichten en praktijkvoorbeelden uit eerste hand van professionals uit het netwerk aangereikt. Hierbij staat de inhoud centraal: wat en hoe? We maken een vertaalslag naar jouw werk: waar begin je en welke ingrediënten heb je hiervoor nodig? Georganiseerd door Platform Bruggen en Platform WOW. \n\nDoelgroep: Beheerders van infrastructurele objecten\n\n\n\nContactpersoon: Jetske Eefting\, programmasecretaris
URL:https://regioingenieur.nl/event/lunchlezing-bruggen-datagedreven-assetmanagement-vlaanderen-en-nijmegen/
ATTACH;FMTTYPE=image/png:https://regioingenieur.nl/wp-content/uploads/2021/04/downloaden.png
END:VEVENT
BEGIN:VEVENT
DTSTART;TZID=Europe/Amsterdam:20220126T123000
DTEND;TZID=Europe/Amsterdam:20220126T133000
DTSTAMP:20260422T183723
CREATED:20220114T094847Z
LAST-MODIFIED:20220114T094916Z
UID:5702-1643200200-1643203800@regioingenieur.nl
SUMMARY:Lunchlezing Bruggen: datagedreven assetmanagement Pro-Rail en KLM
DESCRIPTION:Op 26 januari vervolgen we de reeks ‘een andere blik op datagedreven assetmanagement’ waarin datagedreven beheer van rail- en luchtvaartassets centraal staat.  \nMarlies van der Goot en Marcel Gerrits van ProRail laten aan de hand van concrete voorbeelden zien hoe zij met sensoren een tunnel en een brug monitoren in een 3D omgeving. \nFloris Freeman is betrokken bij deze lezing vanuit zijn rol als KLM R&D coördinator voor ReMAP\, een groot Europees onderzoek naar de toekomst van vliegtuigonderhoud wat uiteraard data-gedreven is. Hij vertelt over onderhoudsrequirement op basis van Condition Based Maintenance met sensoren en uitvoering met geoptimaliseerde planningen. Zie ook: Home – H2020 ReMAP (h2020-remap.eu) \nLunchlezingen Bruggen \nIn de reeks lunchlezingen over bruggen krijg je innovatieve inzichten en praktijkvoorbeelden uit eerste hand van professionals uit het netwerk aangereikt. Hierbij staat de inhoud centraal: wat en hoe? We maken een vertaalslag naar jouw werk: waar begin je en welke ingrediënten heb je hiervoor nodig? Georganiseerd door Platform Bruggen en Platform WOW.
URL:https://regioingenieur.nl/event/lunchlezing-bruggen-datagedreven-assetmanagement-pro-rail-en-klm/
ATTACH;FMTTYPE=image/png:https://regioingenieur.nl/wp-content/uploads/2021/04/downloaden.png
END:VEVENT
BEGIN:VEVENT
DTSTART;TZID=Europe/Amsterdam:20220118T150000
DTEND;TZID=Europe/Amsterdam:20220118T163000
DTSTAMP:20260422T183723
CREATED:20220114T094409Z
LAST-MODIFIED:20220114T094409Z
UID:5699-1642518000-1642523400@regioingenieur.nl
SUMMARY:Kennissessie Het aanleggen en beheren van duurzame oevers
DESCRIPTION:Hoe zorgen we samen\, als beheerders van onze wateren en vaarwegen\, voor duurzame\, natuurlijkvriendelijke en daarmee toekomstbestendige oevers? We hebben met elkaar een verantwoordelijkheid om oevers aan te leggen en te beheren met inachtneming van de ecologie die zich rond deze infrastructurele paden bevindt.  \nDuurzame en natuurlijkvriendelijke oevers zijn de toekomst. Beter voor het milieu\, de biodiversiteit en niet duurder dan conventioneel aangelegde oevers. Om steeds meer oevers op deze wijze aan te leggen en te beheren is kennisdelen en samenwerken op dit thema essentieel. Ook over de organisaties heen. \nDaarom organiseert Platform WOW op dinsdag 18 januari van 15.00 uur tot 16.30 uur opnieuw een online samenkomst tussen waterbeheerders. De provincie Noord-Holland\, Rijkswaterstaat en de TU Delft zijn te gast om ons mee te nemen in hun leerervaringen: \n\nHet Oeverprogramma van de provincie Noord-Holland door Jelte Loggen\, programmamanager Bodem & Groen en Quirijn Huiskes\, projectmanager Bodem en Groen\nVerruiming van de Twentekanalen en de aanleg van natuurvriendelijke oevers: welke keuzes zijn gemaakt en wat zijn de leer ervaringen voor anderen? Door Sergé Bogaerts\, adviseur ecologie bij Rijkswaterstaat\nProef met o.a. oeverplanten in de Innovatieproeftuin van de Diergaarde Blijdorp door Lindsey Schwidder\, Project manager water bij Innovation & Impact Centre TU Delft\n\nSchrijf je in voor deze online sessie waarin we de hamvraag ‘Hoe zorgen we samen voor duurzamer en toekomstbestendig aanleg en beheer van onze oevers?’ op tafel leggen.
URL:https://regioingenieur.nl/event/kennissessie-het-aanleggen-en-beheren-van-duurzame-oevers/
ATTACH;FMTTYPE=image/png:https://regioingenieur.nl/wp-content/uploads/2021/04/downloaden.png
END:VEVENT
BEGIN:VEVENT
DTSTART;TZID=Europe/Amsterdam:20211210T090000
DTEND;TZID=Europe/Amsterdam:20211210T100000
DTSTAMP:20260422T183723
CREATED:20211203T141216Z
LAST-MODIFIED:20211203T141216Z
UID:5682-1639126800-1639130400@regioingenieur.nl
SUMMARY:Webinar Belangenafweging en weersextremen: hoe maak je keuzes?
DESCRIPTION:Over dit webinar\nOp vrijdag 10 december vindt het laatste webinar in de zevendelige reeks weerextremen en de watersector plaats\, die we samen met STOWA\, KNW Waternetwerk\, KWR en Stichting RIONED organiseren. Dit keer over ‘Belangenafweging en weerextremen: hoe maak je keuzes?’. \nAnjo Travaille (expert duurzaamheid & gedrag\, Bovenkamers) neemt je mee in het menselijk brein. Hoe maken mensen keuzes en kun je daar invloed op uitoefenen? Wat zijn nu effectieve manieren om duurzaam gedrag te stimuleren op het gebied van waterbeheer? Anjo is gedragswetenschapper\, bouwde 20 jaar lang kennis en ervaring op in de fysieke leefomgeving én is bestuurslid bij Hoogheemraadschap de Stichtse Rijnlanden. \nJohan Raap (Koninklijk Nederlands Waternetwerk) zal ons meenemen in het perspectief van de triple O: overheden\, ondernemingen en onderwijsinstellingen. Johan kan dit als geen ander met zijn ervaring in deze drie type organisaties. Hier voegt hij zijn rol als kritisch en maatschappelijk betrokken burger aan toe.
URL:https://regioingenieur.nl/event/webinar-belangenafweging-en-weersextremen-hoe-maak-je-keuzes/
ATTACH;FMTTYPE=image/png:https://regioingenieur.nl/wp-content/uploads/2021/04/downloaden.png
END:VEVENT
BEGIN:VEVENT
DTSTART;TZID=Europe/Amsterdam:20211207T093000
DTEND;TZID=Europe/Amsterdam:20211207T103000
DTSTAMP:20260422T183723
CREATED:20211203T140527Z
LAST-MODIFIED:20211203T140527Z
UID:5680-1638869400-1638873000@regioingenieur.nl
SUMMARY:Kennissessie Standaardisering rood asfalt
DESCRIPTION:Lancering standaard met product- en duurzaamheidseisen \nIntroductie\nLaat je wel eens een fietspad asfalteren? De Themagroep uniformering asfaltmengsels\, met daarin opdrachtgevers en marktpartijen\, heeft een standaard opgesteld voor het uitvragen van rode asfaltmengsels voor fietspaden. Op dinsdag 7 december organiseren we hier samen met Bouwcirculair een kennissessie over\, waarbij alles voor de uitvraag wordt toegelicht en we met elkaar in gesprek gaan. \nNa deze sessie kan je direct zelf aan de slag. Mocht je toch nog ergens tegenaan lopen\, dan kan je een gratis consult bij Bouwcirculair aanvragen. \n\n\nProgramma\n\n\n\n\nIntroductie Themagroep uniformering asfaltmengsels\nVerlagen milieu impact door efficiënter werken in asfaltcentrales\nWens vanuit de opdrachtgever: veilig\, goede kwaliteit en een lage milieuafdruk.\nConsequenties voor producent/aannemer: Wat betekent minder rode asfaltmengsels voor dagelijkse proces van asfaltcentrale?\nProductblad Rood Asfalt\nForumgesprek: deelnemers gaan in gesprek met sprekers\n\n\nAanleiding voor de standaard\nTijdens de kennissessie over asfaltmengsels in december 2020\, bleek er een breed gedragen behoefte te zijn om het aantal asfaltmengsels in Nederland te reduceren en daarmee samen duurzamer te zijn. Sindsdien heeft een groep opdrachtgevers en aannemers in de themagroep Uniformering Asfaltmengsels samen gewerkt aan een instrument om hier handen en voeten aan te geven. Het resultaat is een productblad voor een Vrijliggend rood fietspad en een productblad voor een Aanliggend rood fietspad. Beiden kun je op de website Moederbestek.nl downloaden. \n\n\nVoordelen uniformering asfaltmengsels\n\nHet reduceren van het aantal starts en stops van de asfaltmolen levert bij benadering een energiewinst van 4% op.\nDe kwaliteit van grote batches is over het algemeen beter dan van kleine batches.\nStandaardisering van de optimale samenstelling voor wat betreft technische en milieu prestaties geeft opdrachtgevers duidelijkheid en spaart tijd in het aanbestedingsproces.\n\n\n\nProductbladen rood asfalt\nDe productbladen gaan verder dan de gebruikelijke productbladen van BouwCirculair. Zo wordt naaste de maximale MKI-waarde ook type asfalt\, gradatie\, type rode steenslag en percentage pigment voorgeschreven. Deze standaard is in te zetten als er in het ontwerp geen bijzondere eisen voor extra veiligheid of esthetiek zijn gesteld.
URL:https://regioingenieur.nl/event/kennissessie-standaardisering-rood-asfalt/
ATTACH;FMTTYPE=image/png:https://regioingenieur.nl/wp-content/uploads/2021/04/downloaden.png
END:VEVENT
BEGIN:VEVENT
DTSTART;TZID=Europe/Amsterdam:20211130T153000
DTEND;TZID=Europe/Amsterdam:20211130T164500
DTSTAMP:20260422T183723
CREATED:20211119T134611Z
LAST-MODIFIED:20211119T134926Z
UID:5640-1638286200-1638290700@regioingenieur.nl
SUMMARY:Infra Innovatie Marktdag: infra in transitie - online
DESCRIPTION:De live bijeenkomst\, die in het provinciehuis Drenthe zou plaatsvinden\, wordt verzet naar voorjaar 2022. Informatie hierover volgt spoedig. \nOp 30 november kun je meedoen aan een online programma.  \nOp dinsdag 30 november organiseert het InnovatieAtelier samen met Platform WOW en het Infra Innovatie Netwerk van CROW de jaarlijkse Infra Innovatie Marktdag. Het thema is: Infra in transitie en onze gezamenlijke aanpak van het klimaat staat centraal. Het is de derde bijeenkomst in ons vierluik over innovaties in de infra.
URL:https://regioingenieur.nl/event/infra-innovatie-marktdag/
ATTACH;FMTTYPE=image/png:https://regioingenieur.nl/wp-content/uploads/2021/04/downloaden.png
END:VEVENT
BEGIN:VEVENT
DTSTART;TZID=Europe/Amsterdam:20211125T080000
DTEND;TZID=Europe/Amsterdam:20211125T091500
DTSTAMP:20260422T183723
CREATED:20211118T084148Z
LAST-MODIFIED:20211118T084436Z
UID:5633-1637827200-1637831700@regioingenieur.nl
SUMMARY:Uitnodiging Brugdialoog: Randvoorwaarden voor innoveren
DESCRIPTION:Op 25 november voeren we de dialoog met elkaar over innoveren. Feit: het succes van innovatie blijkt voor 25% bepaald door technologie en voor 75% door sociale aspecten. Het potentiële succes moet namelijk óók door de omgeving gezien worden. En als een innovatie minder succesvol lijkt uit te pakken\, heb je dan met elkaar het lef om te stoppen? Want eerlijk is eerlijk: slechts een deel van alle initiatieven haalt het in onze maatschappij. Wat heb jij nodig om in de sector te kunnen innoveren? We bespreken het met elkaar de 25e. \nDe dialoog wordt ingeleid door de volgende experts:\n– Marcel Bruggers namens Boer & Croon\n– Anne Koudstaal namens Dura Vermeer\n– Willy Peelen namens TNO\n– Maurice van Rooijen namens PIANOo \nVervolgens gaan we in kleine groepjes met elkaar in gesprek. Om 09.00 uur vindt de plenaire terugkoppeling plaats. We zien je graag verschijnen! \nKLIK HIER OM JE AAN TE MELDEN
URL:https://regioingenieur.nl/event/5633/
ATTACH;FMTTYPE=image/png:https://regioingenieur.nl/wp-content/uploads/2021/04/Knipsel2.png
END:VEVENT
END:VCALENDAR