BEGIN:VCALENDAR
VERSION:2.0
PRODID:-//RegioIngenieur - ECPv6.15.20//NONSGML v1.0//EN
CALSCALE:GREGORIAN
METHOD:PUBLISH
X-ORIGINAL-URL:https://regioingenieur.nl
X-WR-CALDESC:Evenementen voor RegioIngenieur
REFRESH-INTERVAL;VALUE=DURATION:PT1H
X-Robots-Tag:noindex
X-PUBLISHED-TTL:PT1H
BEGIN:VTIMEZONE
TZID:Europe/Amsterdam
BEGIN:DAYLIGHT
TZOFFSETFROM:+0100
TZOFFSETTO:+0200
TZNAME:CEST
DTSTART:20160327T010000
END:DAYLIGHT
BEGIN:STANDARD
TZOFFSETFROM:+0200
TZOFFSETTO:+0100
TZNAME:CET
DTSTART:20161030T010000
END:STANDARD
BEGIN:DAYLIGHT
TZOFFSETFROM:+0100
TZOFFSETTO:+0200
TZNAME:CEST
DTSTART:20170326T010000
END:DAYLIGHT
BEGIN:STANDARD
TZOFFSETFROM:+0200
TZOFFSETTO:+0100
TZNAME:CET
DTSTART:20171029T010000
END:STANDARD
BEGIN:DAYLIGHT
TZOFFSETFROM:+0100
TZOFFSETTO:+0200
TZNAME:CEST
DTSTART:20180325T010000
END:DAYLIGHT
BEGIN:STANDARD
TZOFFSETFROM:+0200
TZOFFSETTO:+0100
TZNAME:CET
DTSTART:20181028T010000
END:STANDARD
BEGIN:DAYLIGHT
TZOFFSETFROM:+0100
TZOFFSETTO:+0200
TZNAME:CEST
DTSTART:20190331T010000
END:DAYLIGHT
BEGIN:STANDARD
TZOFFSETFROM:+0200
TZOFFSETTO:+0100
TZNAME:CET
DTSTART:20191027T010000
END:STANDARD
BEGIN:DAYLIGHT
TZOFFSETFROM:+0100
TZOFFSETTO:+0200
TZNAME:CEST
DTSTART:20200329T010000
END:DAYLIGHT
BEGIN:STANDARD
TZOFFSETFROM:+0200
TZOFFSETTO:+0100
TZNAME:CET
DTSTART:20201025T010000
END:STANDARD
BEGIN:DAYLIGHT
TZOFFSETFROM:+0100
TZOFFSETTO:+0200
TZNAME:CEST
DTSTART:20210328T010000
END:DAYLIGHT
BEGIN:STANDARD
TZOFFSETFROM:+0200
TZOFFSETTO:+0100
TZNAME:CET
DTSTART:20211031T010000
END:STANDARD
BEGIN:DAYLIGHT
TZOFFSETFROM:+0100
TZOFFSETTO:+0200
TZNAME:CEST
DTSTART:20220327T010000
END:DAYLIGHT
BEGIN:STANDARD
TZOFFSETFROM:+0200
TZOFFSETTO:+0100
TZNAME:CET
DTSTART:20221030T010000
END:STANDARD
BEGIN:DAYLIGHT
TZOFFSETFROM:+0100
TZOFFSETTO:+0200
TZNAME:CEST
DTSTART:20230326T010000
END:DAYLIGHT
BEGIN:STANDARD
TZOFFSETFROM:+0200
TZOFFSETTO:+0100
TZNAME:CET
DTSTART:20231029T010000
END:STANDARD
BEGIN:DAYLIGHT
TZOFFSETFROM:+0100
TZOFFSETTO:+0200
TZNAME:CEST
DTSTART:20240331T010000
END:DAYLIGHT
BEGIN:STANDARD
TZOFFSETFROM:+0200
TZOFFSETTO:+0100
TZNAME:CET
DTSTART:20241027T010000
END:STANDARD
END:VTIMEZONE
BEGIN:VEVENT
DTSTART;TZID=Europe/Amsterdam:20231101T130000
DTEND;TZID=Europe/Amsterdam:20231101T170000
DTSTAMP:20260422T125459
CREATED:20231027T122105Z
LAST-MODIFIED:20231027T122105Z
UID:7165-1698843600-1698858000@regioingenieur.nl
SUMMARY:Netwerkmiddag VCI: circulair inkopen en ketensamenwerking
DESCRIPTION:Om de transitie naar een circulaire economie te versnellen\, is een herziening van de manier waarop we materialen produceren\, gebruiken en hergebruiken cruciaal. Hoe kan inkoop hieraan bijdragen? Wat kunnen we leren van de praktijk? Welke uitdagingen liggen er nog? En hoe creëer je de gedragsverandering om circulair inkopen te laten slagen? Dit zijn de onderwerpen van discussie tijdens de netwerkmiddag op woensdag 1 november 2023\, georganiseerd door het Versnellingsnetwerk Circulair Inkopen (VCI). Sluit aan en deel je inzichten over dit belangrijke onderwerp. \nWaarom is dit interessant voor jou\nJe loopt aan het einde van de middag de deur uit met een dosis inspiratie en nieuwe kennis die je voor je eigen rol en organisatie kunt inzetten\nJe breidt je netwerk uit met experts en professionals uit het inkoop-veld \nVoor wie?\nBen jij een adviseur\, inkoper\, contractmanager of duurzaamheidsmanager bij een publieke of private organisatie? Wees dan van harte welkom. Kom langs en ontmoet gelijkgestemde professionals die zich inzetten voor een duurzame toekomst. Wij kijken uit naar je komst! \nProgramma\nInloop vanaf 12.45 uur. \nEerste deel van de middag (start 13.00 tot 14.30 uur): \n\nNa een korte kennismaking met elkaar gaan we in op het thema van deze middag: gedragsverandering.\nEen expert neemt ons mee in de wereld van gedragsverandering.\nVervolgens gaan we – in kleinere groepen – in gesprek met elkaar; Waar loop je tegenaan als je mensen mee wil nemen in een verandering? Hoe doe je dat in de praktijk bij circulair inkopen?\n\nPauze \nTweede deel van de middag (14.45 tot 17.00 uur): \n\nCarrousel gedragsverandering praktijkcase 1 en 2; we gaan in kleinere groepen in carrouselvorm uiteen. Aan de hand van een praktijkcase gaan we vervolgens met elkaar aan de slag met vragen als: ‘Wat leer je van dit voorbeeld?’ en ‘Wat kun jij hiermee in de praktijk?’.\n\nAan het einde van de middag sluiten we gezamenlijk af en om 17.00 uur begint de netwerkborrel. \nAanmelden\nMeld je aan via het inschrijfformulier.
URL:https://regioingenieur.nl/event/netwerkmiddag-vci-circulair-inkopen-en-ketensamenwerking/
LOCATION:Utrecht
CATEGORIES:Netwerkbijeenkomst
ATTACH;FMTTYPE=image/jpeg:https://regioingenieur.nl/wp-content/uploads/2022/04/Logo-PIANOo.jpg
END:VEVENT
BEGIN:VEVENT
DTSTART;VALUE=DATE:20211111
DTEND;VALUE=DATE:20211112
DTSTAMP:20260422T125459
CREATED:20210703T121446Z
LAST-MODIFIED:20210603T122201Z
UID:5111-1636588800-1636675199@regioingenieur.nl
SUMMARY:Twaalfde Nationaal Deltacongres
DESCRIPTION:Donderdag 11 november 2021\, dat is de dag waarop de Deltacommunity weer samen kan komen op het Nationaal Deltacongres. Overheden\, maatschappelijke organisaties\, kennisinstellingen en alle anderen die ook betrokken zijn bij het Deltaprogramma of interesse hebben\, zijn van harte welkom. \n\nWe gaan het onder andere hebben over: \n\nklimaatadaptief en natuurinclusief bouwen;\ndroogte;\nduurzame uitvoering van waterveiligheidsprojecten;\nde stand van zaken van het Kennisprogramma Zeespiegelstijging.\n\nNet als bij eerdere edities betrekken we ook weer studenten\, scholieren en young professionals bij het Deltacongres. \nHybride vorm \n\nWe kiezen ervoor om het congres in een hybride vorm te organiseren. Dat betekent dat een aantal deelnemers\, zoals de gasten in het plenaire programma en de workshops\, naar het MECC in Maastricht kunnen afreizen en dat de meeste deelnemers net als vorig jaar\, het congres online kunnen volgen. We zijn nu druk bezig met het ontwikkelen van een aantrekkelijk programma voor zowel online als fysiek. \nDe officiële uitnodiging met meer informatie over het programma volgt na de zomer. Noteer nu alvast donderdag 11 november 2021 in de agenda!
URL:https://regioingenieur.nl/event/twaalfde-nationaal-deltacongres/
CATEGORIES:Netwerkbijeenkomst
ATTACH;FMTTYPE=image/jpeg:https://regioingenieur.nl/wp-content/uploads/2021/06/werk-in-uitvoering_project-grensmaas.jpg
END:VEVENT
BEGIN:VEVENT
DTSTART;TZID=Europe/Amsterdam:20210930T160000
DTEND;TZID=Europe/Amsterdam:20210930T173000
DTSTAMP:20260422T125459
CREATED:20210825T060013Z
LAST-MODIFIED:20210625T132155Z
UID:5289-1633017600-1633023000@regioingenieur.nl
SUMMARY:Transitiemotor: lokale coalities in de ondergrond - Strategische samenwerking
DESCRIPTION:Op diverse plekken in Nederland wordt de ambitie van meer integraal werken en langer vooruitplannen al omarmd. De Bouwcampus brengt in het praktijkprogramma mensen bij elkaar die in hun werk te maken hebben met de inrichting van de ondergrond en daarbij te maken krijgen met vraagstukken die vragen om meer samenwerking. Ervaringen uit de praktijk\, de uitdagingen en de dilemma’s waar je dan mee te maken krijgt staan centraal in de maandelijkse ‘TransitieMotor: lokale coalities in de ondergrond’. \nDe derde sessie vindt plaats op donderdag 30 september. Het thema dat daarin centraal staat is strategische samenwerking. \nMeer informatie en registreren: Agenda (debouwcampus.nl)
URL:https://regioingenieur.nl/event/transitiemotor-lokale-coalities-in-de-ondergrond-strategische-samenwerking/
CATEGORIES:Netwerkbijeenkomst
ATTACH;FMTTYPE=image/jpeg:https://regioingenieur.nl/wp-content/uploads/2021/04/BC-logo-1.jpg
END:VEVENT
BEGIN:VEVENT
DTSTART;TZID=Europe/Amsterdam:20180704T160000
DTEND;TZID=Europe/Amsterdam:20180704T180000
DTSTAMP:20260422T125459
CREATED:20180517T220000Z
LAST-MODIFIED:20210302T105337Z
UID:2373-1530720000-1530727200@regioingenieur.nl
SUMMARY:UITNODIGING NETWERKBIJEENKOMST 4 JULI 2018
DESCRIPTION:woensdag                     4 juli 2018 \nInloop en ontvangst:     15:30 uur \nStart bijeenkomst:        16:00 uur \nLocatie:                         Science Centre\, Mijnbouwstraat 120\, 2628 RX Delft \nAanmelden:                  Via deze link \n  \nExtra mogelijkheid: voor aanvang van de bijeenkomst kan het Science Centre worden bezichtigd. \n  \nAGENDA \n\n16:00 Opening (Ronald Zandbergen)\n\n  \n\n16:10 Duurzaamheid in de openbare ruimte (Leon van Dijk – Rotterdam) \n\nWat zijn de initiatieven binnen de gemeente Rotterdam en wat speelt er / welke voorbeelden zijn er bij de overige gemeentes? \n  \n\n16:30 Aardgasloos (Bert Vos – Schiedam)\n\nWat komt er allemaal kijken voor deze ontwikkeling? Waar zijn subsidie mogelijkheden? Welke uitdagingen liggen er? \n  \n           Korte koffie break \n  \n\n17:00 Project Reinier de Graafweg Delft (Olaf Hoogerdijk\, gemeente Delft)\n\nToelichting plannen Reinier de Graafweg. Aandacht voor de risico aanpak en het 3D model van de weg. \n  \n\n5. 17:20 Netwerkzaken \n\nNieuws\, plannen en ontwikkelingen voor het netwerk. \n  \n\nAfsluiting (rond 17:30 uur) Ruimte om na te praten met hapje en drankje.\n\n 
URL:https://regioingenieur.nl/event/netwerkbijeenkomst-4-juli-2018/
CATEGORIES:Netwerkbijeenkomst
ATTACH;FMTTYPE=image/png:https://regioingenieur.nl/wp-content/uploads/2021/02/Science-Centre.png
END:VEVENT
BEGIN:VEVENT
DTSTART;TZID=Europe/Amsterdam:20180308T120000
DTEND;TZID=Europe/Amsterdam:20180308T171500
DTSTAMP:20260422T125459
CREATED:20180222T230000Z
LAST-MODIFIED:20210302T105832Z
UID:2338-1520510400-1520529300@regioingenieur.nl
SUMMARY:Uitnodiging Kwartaalbijeenkomst Infra-Innovatie Netwerk
DESCRIPTION:Donderdag 8 maart vanaf 12.00 uur Bouwcampus Delft\n\n\n\nGraag maken we je attent op een interessante bijeenkomst van het Infra-Innovatie netwerk die op 8 maart samen met de Provincie Zuid-Holland\, CROW en Bouwend Nederland wordt georganiseerd. Het Infra-Innovatie Netwerk wil belemmeringen wegnemen en het daadwerkelijk toepassen van technische innovaties in de grond-\, weg-\, watersector bevorderen\, door vraag en aanbod van innovaties bij elkaar te brengen. \n\nDatum:donderdag 8 maart\, vanaf 12.00 inloop en lunch\nLocatie: Bouwcampus\, Van der Burghweg 1\, 2628 CS Delft\nTijd: 12.00 – 17.15 uur\nDoelgroep: alle geïnteresseerden\nKosten: geen\n\nDe bijeenkomst biedt kansen voor opdrachtgevers en marktpartijen. Opdrachtgevers kunnen oplossingen vinden voor hun innovatievragen en marktpartijen krijgen de kans hun producten direct aan de doelgroep aan te bieden. \nInnovatiemarkt Op de innovatiemarkt staan diverse stands waar innovators innovaties presenteren. \nInnovatiecafés De innovatiecafés zijn de plek om opdrachtgevers en opdrachtnemers\, die een innovatie hebben\, met elkaar te verbinden. Innovators geven korte pitches over hun innovaties\, waarna discussie over de producten plaatsvindt. Onderwerpen die aan bod komen: \n\nWegen & fietspaden in relatie tot energietransitie (energieproducerende wegen en fietspaden)\nSlimme beoordelingstechnieken (conditie van wegen en kunstwerken)\n\nThemabijeenkomsten De themabijeenkomsten hebben als doel om belemmeringen voor toepassing van innovaties weg te nemen\, bijvoorbeeld bij aanbesteden en contracteren. Onderwerpen die aan bod komen: \n\nSensoring/data in relatie tot kunstwerken\nInnovatiegericht aanbesteden en contracteren in provincie Zuid-Holland\nOpschalen van innovaties (van pilot naar grootschalige toepassing)\n\nMeer informatie en aanmelden op de website van CROW.
URL:https://regioingenieur.nl/event/uitnodiging-kwartaalbijeenkomst-infra-innovatie-netwerk/
CATEGORIES:Netwerkbijeenkomst
ATTACH;FMTTYPE=image/jpeg:https://regioingenieur.nl/wp-content/uploads/2021/02/diversen.jpg
END:VEVENT
BEGIN:VEVENT
DTSTART;TZID=Europe/Amsterdam:20170626T160000
DTEND;TZID=Europe/Amsterdam:20170626T180000
DTSTAMP:20260422T125459
CREATED:20170409T220000Z
LAST-MODIFIED:20210302T110742Z
UID:2216-1498492800-1498500000@regioingenieur.nl
SUMMARY:Netwerkbijeenkomst op maandag 26 juni 2017
DESCRIPTION:De volgende netwerkbijeenkomst is bij de gemeente Voorburg – Leidschendam. De locatie is het monumentale gemeentehuis. De inloop is vanaf 15.30 uur. De aanvang is om 16.00 uur. \nDe navolgende projecten zullen we deze middag bezoeken en informatie over krijgen: \n  \nRioolgemaal van Ruysdaellaan \nVervanging en verplaatsing van het gemeentelijk rioolgemaal aan de Van Ruysdaellaan en aanleg van een rioolleiding tussen de huidige en nieuwe locatie door middel van een ondergrondse boring langs de Noordsingel. \nHet project is tot stand gekomen in nauwe samenwerking met de partners binnen de afvalwaterketen. \n  \nRevitalisering De Rietvink \nIntegrale ophoging en herinrichting van de wijk De Rietvink waarbij van gevel tot gevel de openbare ruimte en de voortuinen van de woningen wordt gerevitaliseerd. In nauwe samenwerking met de bewoners en nutsbedrijven is de problematiek rondom de verzakkingen aangepakt. \n  \nKolfschotenlaan \nDe gemeente voert groot onderhoud uit aan de Burgemeester Kolfschotenlaan en moet de duurzaamste straat van de gemeente worden. Door de toepassing van o.a. LED-verlichting\, Cradle to Cradle producten\, bestrating die CO2-uitstoot vermindert\, natuurvriendelijke oevers proberen we dit doel te bereiken. Uiteindelijk is deze straat het voorbeeld voor toekomstige projecten. \n  \nMall of the Netherlands  \nNieuwbouw\, renovatie en herinrichting van het verouderde winkelcentrum Leidsenhage tot een volledig overdekt\, uniek winkelcentrum Mall of the Netherlands. Door het toevoegen van vernieuwende winkelconcepten\, internationale retailers\, een bioscoop\, een ondergrondse parkeergarage van 1300 plaatsen en extra horecaprogramma\, speelt eigenaar Unibail-Rodamco in op de trends en ontwikkelingen in de Retail. \n 
URL:https://regioingenieur.nl/event/netwerkbijeenkomst-op-maandag-23-juni-2017/
CATEGORIES:Netwerkbijeenkomst
ATTACH;FMTTYPE=image/jpeg:https://regioingenieur.nl/wp-content/uploads/2021/02/Voorburg-Leidschendam.jpg
END:VEVENT
BEGIN:VEVENT
DTSTART;TZID=Europe/Amsterdam:20170313T153000
DTEND;TZID=Europe/Amsterdam:20170313T190000
DTSTAMP:20260422T125459
CREATED:20170305T230000Z
LAST-MODIFIED:20210302T110847Z
UID:2206-1489419000-1489431600@regioingenieur.nl
SUMMARY:Netwerkbijeenkomst 13 maart 2017
DESCRIPTION:Op maandag 13 maart 2017 is er een netwerkbijeenkomst voor de sponsors van het netwerk. Deze bijeenkomsten worden steeds bij andere sponsors van het netwerk georganiseerd. Het is de kans om wat te horen van actuele ontwikkelingen en elkaar op een informele wijze te ontmoeten. \n  \nGastheer is deze keer Peter de Visser\, hoofd Stadsbeheer\, Zoetermeer \nLocatie: Foyer Stadstheater Zoetermeer\, Theaterplein 10 2711 EK Zoetermeer \n\n15:30 inloop en ontvangst\n16:00 Uitleg over de upgrade Stadshart/stadhuisplein en ontwikkelingen Outletcentre incl. een korte excursie.\n17:00 Omgevingswet en stadsbeheer – presentatie en discussie\n17:40 Uit het netwerk (Ronald Zandbergen)\n18:00 Buffet en netwerken\n\n  \nDeze keer verhindert? De netwerkbijeenkomst hierna is op 26 juni 2017 vanaf 15.30 uur. Gastheer is Rob Gussekloo van de gemeente Voorburg – Leidschendam.
URL:https://regioingenieur.nl/event/netwerkbijeenkomst-13-maart-2017/
CATEGORIES:Netwerkbijeenkomst
ATTACH;FMTTYPE=image/png:https://regioingenieur.nl/wp-content/uploads/2021/02/logo.png
END:VEVENT
BEGIN:VEVENT
DTSTART;TZID=Europe/Amsterdam:20170118T160000
DTEND;TZID=Europe/Amsterdam:20170118T200000
DTSTAMP:20260422T125459
CREATED:20170109T230000Z
LAST-MODIFIED:20210302T111021Z
UID:2171-1484755200-1484769600@regioingenieur.nl
SUMMARY:Nieuwjaarsbijeenkomst Infratech
DESCRIPTION:Op woensdag 18 januari 2017 organiseert Regio Ingenieurs vanaf 16.00 uur een nieuwjaarsbijeenkomst op de gemeenteplein Infratechbeurs. \nWe gaan een nieuw jaar tegemoet met nieuwe uitdagingen\, waar we met elkaar sterk in willen staan.
URL:https://regioingenieur.nl/event/nieuwjaarsbijeenkomst-infratech/
CATEGORIES:Netwerkbijeenkomst
ATTACH;FMTTYPE=image/png:https://regioingenieur.nl/wp-content/uploads/2021/02/logo_banner.png
END:VEVENT
END:VCALENDAR