BEGIN:VCALENDAR
VERSION:2.0
PRODID:-//RegioIngenieur - ECPv6.15.20//NONSGML v1.0//EN
CALSCALE:GREGORIAN
METHOD:PUBLISH
X-ORIGINAL-URL:https://regioingenieur.nl
X-WR-CALDESC:Evenementen voor RegioIngenieur
REFRESH-INTERVAL;VALUE=DURATION:PT1H
X-Robots-Tag:noindex
X-PUBLISHED-TTL:PT1H
BEGIN:VTIMEZONE
TZID:Europe/Amsterdam
BEGIN:DAYLIGHT
TZOFFSETFROM:+0100
TZOFFSETTO:+0200
TZNAME:CEST
DTSTART:20220327T010000
END:DAYLIGHT
BEGIN:STANDARD
TZOFFSETFROM:+0200
TZOFFSETTO:+0100
TZNAME:CET
DTSTART:20221030T010000
END:STANDARD
BEGIN:DAYLIGHT
TZOFFSETFROM:+0100
TZOFFSETTO:+0200
TZNAME:CEST
DTSTART:20230326T010000
END:DAYLIGHT
BEGIN:STANDARD
TZOFFSETFROM:+0200
TZOFFSETTO:+0100
TZNAME:CET
DTSTART:20231029T010000
END:STANDARD
BEGIN:DAYLIGHT
TZOFFSETFROM:+0100
TZOFFSETTO:+0200
TZNAME:CEST
DTSTART:20240331T010000
END:DAYLIGHT
BEGIN:STANDARD
TZOFFSETFROM:+0200
TZOFFSETTO:+0100
TZNAME:CET
DTSTART:20241027T010000
END:STANDARD
END:VTIMEZONE
BEGIN:VEVENT
DTSTART;TZID=Europe/Amsterdam:20230418T121500
DTEND;TZID=Europe/Amsterdam:20230418T160000
DTSTAMP:20260424T234800
CREATED:20230407T134209Z
LAST-MODIFIED:20230407T134239Z
UID:6738-1681820100-1681833600@regioingenieur.nl
SUMMARY:Marktdag Infra Bouwend Nederland
DESCRIPTION:Op dinsdag 18 april is het weer zover: de jaarlijkse marktdag Infra van Bouwend Nederland Regio Randstad Zuid! Dit jaar zullen we op het hoofdkantoor van Bouwend Nederland samen met opdrachtgevers en opdrachtnemers het gesprek aangaan over de verduurzamingsopgave die voor ons ligt. Hoe gaan we dit aanpakken en hoe nemen we dit mee in de aanbestedingen? \nBijzondere aandacht zal er op deze marktdag zijn voor de waterschappen en voor mkb-bedrijven. Daarnaast zullen we in twee workshopsessies stilstaan bij de gevolgen van de invoering van de zogenaamde ‘zero-emissiezones’ in de grote gemeenten. Wat betekent dit voor de bouw? \nProgramma\n12.15 Inloop met lunch\n13.00 Opening door Frans Paardekooper\, voorzitter Infraplatform RRZ\n13.15 Plenaire sessie I: de duurzaamheidsplannen van de Provincie Zuid-Holland\, door Coen Geerdink\, Transitiemanager Circulair Inkopen & Aanbesteden Provincie Zuid-Holland\n13.45 Plenaire sessie II: duurzaamheid bij de Waterschappen\n14.15 Pauze\n14.30 Workshopronde I\na. Duurzaamheid in aanbestedingen: hoe doe je dat? Met Jan-Pieter Papenhuijzen\, partner Significant Groep;\nb. Waterschappen & duurzaamheid in de praktijk\, wat kunnen de waterschappen en de markt van elkaar verwachten?\nc. Zero-emissie stadslogistiek: hoe gaan we het doen? Met o.a. Jos Streng\, BuyZET & Gemeente Rotterdam en Eveline Botter\, project manager – verduurzamer gemeente Leiden;\nd. Duurzame mkb-aanbestedingen: hoe nemen we het mkb mee in de verduurzamingsopgave? Met Joost Merema\, partner PRO6-managers.\n15.10 Pauze\n15.20 Workshopronde II\na. Duurzaamheid in aanbestedingen: hoe doe je dat en hoe garandeer je dat het nageleefd wordt? Met Jan-Pieter Papenhuijzen\, partner Significant Groep;\nb. Waterschappen & duurzaamheid in de praktijk\, wat kunnen de waterschappen en de markt van elkaar verwachten?\nc. Zero-emissie stadslogistiek: hoe gaan we het doen? Met o.a. Jos Streng\, BuyZET & Gemeente Rotterdam en Eveline Botter\, project manager – verduurzamer gemeente Leiden;\nd. Duurzame mkb-aanbestedingen: hoe nemen we het mkb mee in de verduurzamingsopgave? Met Joost Merema\, partner PRO6-managers.\n16.00 Afsluiting en borrel\n17.00 Einde bijeenkomst \nDatum: 18 april 2023\nTijd: 12.15 tot 16.00 uur\, met aansluitend een netwerkborrel\nLocatie: Hoofdkantoor Bouwend Nederland\, Zilverstraat 69 Zoetermeer \nAanmelden kan door het sturen van een mailtje naar evenementen@bouwendnederland.nl. \nWe hopen velen van jullie op 18 april te mogen ontvangen.
URL:https://regioingenieur.nl/event/marktdag-infra/
LOCATION:Hoofdkantoor Bouwend Nederland\, Zilverstraat 69\, Zoetermeer\, Nederland
CATEGORIES:Marktdag
ATTACH;FMTTYPE=image/png:https://regioingenieur.nl/wp-content/uploads/2023/04/logoBN.png
END:VEVENT
END:VCALENDAR