BEGIN:VCALENDAR
VERSION:2.0
PRODID:-//RegioIngenieur - ECPv6.15.20//NONSGML v1.0//EN
CALSCALE:GREGORIAN
METHOD:PUBLISH
X-WR-CALNAME:RegioIngenieur
X-ORIGINAL-URL:https://regioingenieur.nl
X-WR-CALDESC:Evenementen voor RegioIngenieur
REFRESH-INTERVAL;VALUE=DURATION:PT1H
X-Robots-Tag:noindex
X-PUBLISHED-TTL:PT1H
BEGIN:VTIMEZONE
TZID:Europe/Amsterdam
BEGIN:DAYLIGHT
TZOFFSETFROM:+0100
TZOFFSETTO:+0200
TZNAME:CEST
DTSTART:20220327T010000
END:DAYLIGHT
BEGIN:STANDARD
TZOFFSETFROM:+0200
TZOFFSETTO:+0100
TZNAME:CET
DTSTART:20221030T010000
END:STANDARD
BEGIN:DAYLIGHT
TZOFFSETFROM:+0100
TZOFFSETTO:+0200
TZNAME:CEST
DTSTART:20230326T010000
END:DAYLIGHT
BEGIN:STANDARD
TZOFFSETFROM:+0200
TZOFFSETTO:+0100
TZNAME:CET
DTSTART:20231029T010000
END:STANDARD
BEGIN:DAYLIGHT
TZOFFSETFROM:+0100
TZOFFSETTO:+0200
TZNAME:CEST
DTSTART:20240331T010000
END:DAYLIGHT
BEGIN:STANDARD
TZOFFSETFROM:+0200
TZOFFSETTO:+0100
TZNAME:CET
DTSTART:20241027T010000
END:STANDARD
END:VTIMEZONE
BEGIN:VEVENT
DTSTART;TZID=Europe/Amsterdam:20231030T113000
DTEND;TZID=Europe/Amsterdam:20231030T170000
DTSTAMP:20260424T202407
CREATED:20230705T140333Z
LAST-MODIFIED:20230705T140333Z
UID:6959-1698665400-1698685200@regioingenieur.nl
SUMMARY:COB-congres 2023
DESCRIPTION:Na een spectaculair congres in het Archeon vorig jaar\, komt het COB-netwerk dit jaar op maandag 30 oktober 2023 samen bij Next Level in Gorinchem. We gaan dit jaar iets meer back to basics\, maar uiteraard niet zonder de creativiteit die u van het COB gewend bent. U kunt in elk geval rekenen op een boeiend plenair programma\, een gezamenlijke lunch\, verdiepende subsessies en optredens van de COBand. Het wordt weer een congres dat u niet wilt missen\, dus meld u nu aan! \n\n\n\n\nThema: wisselwerking\nDat kabels en leidingen\, tunnels\, fietsenstallingen en allerlei andere voorzieningen toevallig allemaal ondergronds zijn\, wil niet zeggen dat bijbehorende makers en onderhouders elkaar kennen. Het COB kent ze wel en ziet daardoor ook dat er veel van elkaar te leren valt. Daar draait het COB-congres 2023 om: over de schutting kijken\, inspiratie opdoen en oplossingen ontdekken. Want ook al zijn de toepassingen (soms) heel anders\, andermans ideeën kunnen zomaar eens waardevol zijn. \n\n\n\n\nProgramma\nHet congresprogramma is deels afhankelijk van ingezonden suggesties voor de subsessies\, zie de oproep hieronder. De hoofdlijnen zijn al wel bekend: \n\nInloop en gezamenlijke lunch vanaf 11.30 uur. Zoek (oud-)collega’s op of leg juist nieuwe contacten.\nInhoudelijke programma van 12.45 tot 17.00 uur met onder andere:\nPlenair deel met actualiteiten binnen het COB\, uitreiking Schreudersstudieprijs en meer.\nSubsessies waarin alle disciplines vertegenwoordigd zijn: van kabels en leidingen en geotechniek tot ruimtelijke ordening en tunnels.\nNetwerkborrel vanaf 17.00 uur. Praat met andere deelnemers nog even na over de sessies\, of juist over iets heel anders.\n\n\n\n\n\nSubsessies\nDe subsessies gaan over drie onderwerpen die overal naar voren komen: digitalisering\, duurzaamheid en menselijk gedrag. Denk aan vragen zoals: \n\nHoe wordt digitalisering ingezet in de kabels-en-leidingenwereld\, is de aanpak in de tunnelsector anders\, welke verschillen zijn er en waarom?\nZijn duurzaamheidsmaatregelen van de ene naar de andere branche te kopiëren of te vertalen\, werken ze elkaar niet tegen?\nWat zijn in tunnelprojecten succesfactoren voor samenwerking\, zouden die ook effectief zijn in kabels-en-leidingenprojecten\, welke overeenkomsten kunnen we benutten?\n\nKosten deelname\nHet COB-congres is gratis toegankelijk voor participanten\, kennispartners\, studenten en betalende platformleden van het COB. Voor andere belangstellenden bedragen de deelnamekosten zonder factuur 285 euro en met factuur 297\,50 euro (prijzen zijn inclusief btw).
URL:https://regioingenieur.nl/event/cob-congres-2023/
LOCATION:Next Level\, Gorinchem\, Franklinweg 2\, Gorinchem\, 4207 HZ\, Nederland
CATEGORIES:Congres
ATTACH;FMTTYPE=image/png:https://regioingenieur.nl/wp-content/uploads/2023/07/cob.png
END:VEVENT
END:VCALENDAR