BEGIN:VCALENDAR
VERSION:2.0
PRODID:-//RegioIngenieur - ECPv6.15.18//NONSGML v1.0//EN
CALSCALE:GREGORIAN
METHOD:PUBLISH
X-ORIGINAL-URL:https://regioingenieur.nl
X-WR-CALDESC:Evenementen voor RegioIngenieur
REFRESH-INTERVAL;VALUE=DURATION:PT1H
X-Robots-Tag:noindex
X-PUBLISHED-TTL:PT1H
BEGIN:VTIMEZONE
TZID:Europe/Amsterdam
BEGIN:DAYLIGHT
TZOFFSETFROM:+0100
TZOFFSETTO:+0200
TZNAME:CEST
DTSTART:20230326T010000
END:DAYLIGHT
BEGIN:STANDARD
TZOFFSETFROM:+0200
TZOFFSETTO:+0100
TZNAME:CET
DTSTART:20231029T010000
END:STANDARD
BEGIN:DAYLIGHT
TZOFFSETFROM:+0100
TZOFFSETTO:+0200
TZNAME:CEST
DTSTART:20240331T010000
END:DAYLIGHT
BEGIN:STANDARD
TZOFFSETFROM:+0200
TZOFFSETTO:+0100
TZNAME:CET
DTSTART:20241027T010000
END:STANDARD
BEGIN:DAYLIGHT
TZOFFSETFROM:+0100
TZOFFSETTO:+0200
TZNAME:CEST
DTSTART:20250330T010000
END:DAYLIGHT
BEGIN:STANDARD
TZOFFSETFROM:+0200
TZOFFSETTO:+0100
TZNAME:CET
DTSTART:20251026T010000
END:STANDARD
END:VTIMEZONE
BEGIN:VEVENT
DTSTART;TZID=Europe/Amsterdam:20241121T120000
DTEND;TZID=Europe/Amsterdam:20241121T173000
DTSTAMP:20260420T042254
CREATED:20241114T083006Z
LAST-MODIFIED:20241114T083006Z
UID:8131-1732190400-1732210200@regioingenieur.nl
SUMMARY:Marktconsultatie opschaling biobased in de GWW
DESCRIPTION:Medio volgend jaar staat de publicatie van de opschalingsregelingen (zes SBIR en IP’s) als onderdeel van de Nationale Aanpak Biobased Bouwen op het programma. \nAlle ingrediënten (capaciteit\, kennis\, middelen) zijn aanwezig om drempels te verlagen en echt aan de slag te gaan met de vertaalslag van beleid naar praktijk en schattig naar schaal. \nDe afgelopen maanden is er vanuit een van de leeromgevingen van Building Balance met een brede vertegenwoordiging uit de keten (ca. 50 bedrijven) gewerkt aan de inrichting van deze regelingen. Op 21 november presenteren zij de resultaten hiervan \nDetails \nDag donderdag 21 november 2024\nTijd: 12.00 – 17.30 uur\nLocatie: Terrein van de Universiteit van Wageningen\, Omnia gebouw\nMeer weten? \nKijk op https://buildingbalance.eu/agenda/marktconsultatie-opschaling-biobased-in-de-gww/\nof mail naar info@buildingbalance.eubou
URL:https://regioingenieur.nl/event/marktconsultatie-opschaling-biobased-in-de-gww/
LOCATION:Universiteit van Wageningen\, Omnia gebouw\, Hoge Steeg 2\, Wageningen\, 6708PH\, Netherlands
ATTACH;FMTTYPE=image/png:https://regioingenieur.nl/wp-content/uploads/2022/09/bouwcampus.png
END:VEVENT
END:VCALENDAR