BEGIN:VCALENDAR
VERSION:2.0
PRODID:-//RegioIngenieur - ECPv6.15.20//NONSGML v1.0//EN
CALSCALE:GREGORIAN
METHOD:PUBLISH
X-ORIGINAL-URL:https://regioingenieur.nl
X-WR-CALDESC:Evenementen voor RegioIngenieur
REFRESH-INTERVAL;VALUE=DURATION:PT1H
X-Robots-Tag:noindex
X-PUBLISHED-TTL:PT1H
BEGIN:VTIMEZONE
TZID:Europe/Amsterdam
BEGIN:DAYLIGHT
TZOFFSETFROM:+0100
TZOFFSETTO:+0200
TZNAME:CEST
DTSTART:20220327T010000
END:DAYLIGHT
BEGIN:STANDARD
TZOFFSETFROM:+0200
TZOFFSETTO:+0100
TZNAME:CET
DTSTART:20221030T010000
END:STANDARD
BEGIN:DAYLIGHT
TZOFFSETFROM:+0100
TZOFFSETTO:+0200
TZNAME:CEST
DTSTART:20230326T010000
END:DAYLIGHT
BEGIN:STANDARD
TZOFFSETFROM:+0200
TZOFFSETTO:+0100
TZNAME:CET
DTSTART:20231029T010000
END:STANDARD
BEGIN:DAYLIGHT
TZOFFSETFROM:+0100
TZOFFSETTO:+0200
TZNAME:CEST
DTSTART:20240331T010000
END:DAYLIGHT
BEGIN:STANDARD
TZOFFSETFROM:+0200
TZOFFSETTO:+0100
TZNAME:CET
DTSTART:20241027T010000
END:STANDARD
END:VTIMEZONE
BEGIN:VEVENT
DTSTART;TZID=Europe/Amsterdam:20231109T093000
DTEND;TZID=Europe/Amsterdam:20231109T173000
DTSTAMP:20260423T175148
CREATED:20231027T121334Z
LAST-MODIFIED:20231027T121334Z
UID:7167-1699522200-1699551000@regioingenieur.nl
SUMMARY:Van Leidse Ladder naar Landelijke Ladder
DESCRIPTION:Wil jouw gemeente het goede voorbeeld geven en andere partijen uitdagen en inspireren bij circulaire gebiedsontwikkeling? Zorg dan dat je erbij bent op 9 november! Gemeenten spelen een cruciale rol bij het realiseren van onze ambitieuze doelen op het gebied van klimaat\, materiaal\, stikstof en woningbouw. Het hoogwaardig en circulair inrichten van de openbare ruimte kan een belangrijke sleutel zijn bij het realiseren van deze doelen. \n\n\n\nCirculaire gebiedsontwikkeling als kracht voor de openbare ruimte\nHoe kunnen we als gemeenten zelf circulaire gebiedsontwikkeling standaard maken? En hoe kunnen we marktpartijen uitdagen en inspireren om maximaal in te zetten op circulaire ambities? Door als gemeente het goede voorbeeld te geven\, trek je ook bouwers en ontwikkelaars aan met dezelfde drive. Door actief in te zetten op circulaire inrichting van de openbare ruimte laat je zien dat je serieus bent en wat er voor jou\, als gemeente\, belangrijk is. Zo kan je samen optimaal invulling geven aan het gebied. Veel bouwers en ontwikkelaars hebben al ambitie op het gebied van circulair bouwen. Dit zien we zeker bij deelnemers van de City Deal. Tijd om door te pakken dus! \nStel hoge eisen en geef het goede voorbeeld\nDe gemeente Leiden heeft Circulaire Openbare Ruimte routekaarten en de Leidse Ladder ontwikkeld om invulling te geven aan haar ambities op circulair bouwen. De routekaarten geven inzicht in de weg naar 100% circulair uitvragen. En de ladder betreft hét monitoringssysteem voor circulariteit in de openbare ruimte\, die je stap voor stap door het circulair werken en inrichten van processen binnen alle betrokken afdelingen gidst. Graag laten we je op de dag zien hoe deze Ladder werkt\, hoe je je interne organisatie mee kunt nemen en verkennen we of en hoe we van de Leidse ladder een landelijke ladder kunnen maken. \n\n\nProgramma\n09.30   Inloop\n10.00   Opening door Wethouder Yvonne van Delft\n10.10   Opening door programmamanager Marijn Sauer\n10.20   Opening Gido ten Dolle manager ruimtelijke kwaliteit\n10.30   Circulaire openbare ruimte routekaarten\n11.00   Pauze\n11.15   Leidse Ladder (monitoringssysteem)\n11.45   Presentaties van projecten ‘Circulair gedaan’\n12.15   Lunchpauze\n13.15   Aan de slag met de Leidse Ladder\n14.45   Pauze\n15.00   Paneldiscussie\n16.00   Borrel (tot 17.00) \nMeer informatie en aanmelden\nKijk voor aanmelden en meer informatie op de pagina Van Leidse Ladder naar Landelijke Ladder.
URL:https://regioingenieur.nl/event/van-leidse-ladder-naar-landelijke-ladder/
LOCATION:Leiden
ATTACH;FMTTYPE=image/jpeg:https://regioingenieur.nl/wp-content/uploads/2022/04/Logo-PIANOo.jpg
END:VEVENT
END:VCALENDAR