BEGIN:VCALENDAR
VERSION:2.0
PRODID:-//RegioIngenieur - ECPv6.15.20//NONSGML v1.0//EN
CALSCALE:GREGORIAN
METHOD:PUBLISH
X-ORIGINAL-URL:https://regioingenieur.nl
X-WR-CALDESC:Evenementen voor RegioIngenieur
REFRESH-INTERVAL;VALUE=DURATION:PT1H
X-Robots-Tag:noindex
X-PUBLISHED-TTL:PT1H
BEGIN:VTIMEZONE
TZID:Europe/Amsterdam
BEGIN:DAYLIGHT
TZOFFSETFROM:+0100
TZOFFSETTO:+0200
TZNAME:CEST
DTSTART:20220327T010000
END:DAYLIGHT
BEGIN:STANDARD
TZOFFSETFROM:+0200
TZOFFSETTO:+0100
TZNAME:CET
DTSTART:20221030T010000
END:STANDARD
BEGIN:DAYLIGHT
TZOFFSETFROM:+0100
TZOFFSETTO:+0200
TZNAME:CEST
DTSTART:20230326T010000
END:DAYLIGHT
BEGIN:STANDARD
TZOFFSETFROM:+0200
TZOFFSETTO:+0100
TZNAME:CET
DTSTART:20231029T010000
END:STANDARD
BEGIN:DAYLIGHT
TZOFFSETFROM:+0100
TZOFFSETTO:+0200
TZNAME:CEST
DTSTART:20240331T010000
END:DAYLIGHT
BEGIN:STANDARD
TZOFFSETFROM:+0200
TZOFFSETTO:+0100
TZNAME:CET
DTSTART:20241027T010000
END:STANDARD
END:VTIMEZONE
BEGIN:VEVENT
DTSTART;TZID=Europe/Amsterdam:20230330T083000
DTEND;TZID=Europe/Amsterdam:20230330T170000
DTSTAMP:20260424T013528
CREATED:20230303T125715Z
LAST-MODIFIED:20230303T125715Z
UID:6661-1680165000-1680195600@regioingenieur.nl
SUMMARY:Nationaal Congres Beheer Openbare Ruimte 2023
DESCRIPTION:Op donderdag 30 maart 2023 ben je van harte welkom voor de 10e editie van NCBOR in de Fokker Terminal in gastgemeente Den Haag. \nDe jubileumeditie van NCBOR wordt in samenwerking met de City Deal Openbare Ruimte en het Ministerie van Binnenlandse Zaken en Koninkrijksrelaties georganiseerd in Den Haag. En dat is niet toevallig gekozen. Naast bijzondere stad en deelnemer aan de City Deal\, is Den Haag ook de basis voor de ministeries. Samenwerking tussen de ministeries onderling en met gemeenten is van groot belang bij de openbare ruimte transities waar we voor staan. \nMet het thema ‘Grenzeloos Verbinden’ kijken we 10 jaar terug en vooruit in ons vakgebied\, en zoeken we vooral de verbindingen met ontwerp\, boven- en ondergrond en onze toekomstige generatie vakgenoten. \nMeer informatie vind je op de speciale eventsite \nNAAR NCBOR.NL\n\nProgramma\nEen groot deel van de dag is flexibel en naar wens in te delen met de inhoudelijke sessies\, workshops of andere programmaonderdelen van jouw keuze. Er is volop ruimte in het programma\, tijdens de pauzes en de afsluitende borrel om elkaar te ontmoeten of bij te praten. \n\n\n\n8.30\nOchtendwandeling door de Binckhorst (optioneel)\n\n\n10.00\nPlenaire opening\n\n\n11.30\nFlexibel programma\n\n\n13.00\nLunch\n\n\n14.00\nFlexibel programm\n\n\n16.00\nPlenaire afsluiting\n\n\n17.00\nNCBORrel\n\n\n\nVan 11.30 tot 16.00 uur ben je vrij om aan te sluiten bij inhoudelijke sessies\, workshops\, de lunch\, een excursie… Net wat jij wilt! \nOntdek wat er allemaal op het inhoudelijk programma staat en bepaal alvast welke onderdelen je niet wilt missen. NAAR NCBOR.NL\nInschrijven\n\nStartdatum: 30-03-2023\nLocatie: Fokker Terminal\nBijeenkomstnummer: N1235_2023\nINSCHRIJVEN
URL:https://regioingenieur.nl/event/nationaal-congres-beheer-openbare-ruimte-2023/
LOCATION:Fokker Terminal\, Binckhorstlaan 249\, Den Haag\, 2516BB\, Nederland
CATEGORIES:Congres
ATTACH;FMTTYPE=image/svg+xml:https://regioingenieur.nl/wp-content/uploads/2023/01/CROW-logo.svg
END:VEVENT
END:VCALENDAR