BEGIN:VCALENDAR
VERSION:2.0
PRODID:-//RegioIngenieur - ECPv6.15.20//NONSGML v1.0//EN
CALSCALE:GREGORIAN
METHOD:PUBLISH
X-WR-CALNAME:RegioIngenieur
X-ORIGINAL-URL:https://regioingenieur.nl
X-WR-CALDESC:Evenementen voor RegioIngenieur
REFRESH-INTERVAL;VALUE=DURATION:PT1H
X-Robots-Tag:noindex
X-PUBLISHED-TTL:PT1H
BEGIN:VTIMEZONE
TZID:Europe/Amsterdam
BEGIN:DAYLIGHT
TZOFFSETFROM:+0100
TZOFFSETTO:+0200
TZNAME:CEST
DTSTART:20210328T010000
END:DAYLIGHT
BEGIN:STANDARD
TZOFFSETFROM:+0200
TZOFFSETTO:+0100
TZNAME:CET
DTSTART:20211031T010000
END:STANDARD
BEGIN:DAYLIGHT
TZOFFSETFROM:+0100
TZOFFSETTO:+0200
TZNAME:CEST
DTSTART:20220327T010000
END:DAYLIGHT
BEGIN:STANDARD
TZOFFSETFROM:+0200
TZOFFSETTO:+0100
TZNAME:CET
DTSTART:20221030T010000
END:STANDARD
BEGIN:DAYLIGHT
TZOFFSETFROM:+0100
TZOFFSETTO:+0200
TZNAME:CEST
DTSTART:20230326T010000
END:DAYLIGHT
BEGIN:STANDARD
TZOFFSETFROM:+0200
TZOFFSETTO:+0100
TZNAME:CET
DTSTART:20231029T010000
END:STANDARD
END:VTIMEZONE
BEGIN:VEVENT
DTSTART;TZID=Europe/Amsterdam:20220630T140000
DTEND;TZID=Europe/Amsterdam:20220630T160000
DTSTAMP:20260422T104514
CREATED:20220613T100340Z
LAST-MODIFIED:20220615T125202Z
UID:5908-1656597600-1656604800@regioingenieur.nl
SUMMARY:Ronde-tafel-sessie Projectmanagement
DESCRIPTION:Op donderdag 30 juni organiseert Regio Ingenieur vanuit de kennisgroep Projectmanagement een ronde-tafel-sessie. Tijdens dit gesprek wil Diederik van Zanten\, contactpersoon vanuit de kennisgroep\, graag met elkaar het gesprek aangaan over de uitdagingen waar projectmanagers mee te maken krijgen\, zoals samenwerking tussen verschillende partijen\, de verhouding tussen schaarste en stapeling van eisen\, en het eindresultaat van een raming. Om meer te weten te komen over deze uitdagingen heeft Diederik van Zanten drie artikelen geschreven: \n  \nHet eindresultaat van een raming 16-5-2022 \nDe drie pijlers van samenwerken 16-5-2022 \nStapeling eisen en schaarste 16-5-2022 \n  \nGraag gaan we op 30 juni met u het gesprek aan over de uitdagingen binnen projectmanagement. We zijn daarbij ook benieuwd naar welke uitdagingen u in uw projecten tegenkomt. We kijken uit naar een mooie sessie waarin we over en weer kennis en ervaringen kunnen uitwisselen. \n  \nGeef je nu op via onderstaande link: \nhttps://www.eventbrite.nl/e/ronde-tafel-sessie-projectmanagement-tickets-365448344837
URL:https://regioingenieur.nl/event/ronde-tafel-sessie-projectmanagement/
LOCATION:Europoint V\, Marconistraat 1-11\, Rotterdam\, Zuid-Holland\, 3029 AJ
ATTACH;FMTTYPE=image/jpeg:https://regioingenieur.nl/wp-content/uploads/2021/02/hero-homepage-tunnel-inspectie-scaled.jpg
ORGANIZER;CN="RegioIngenieur":MAILTO:info@regioingenieur.nl
END:VEVENT
END:VCALENDAR